BEGIN:VCALENDAR
VERSION:2.0
CALSCALE:GREGORIAN
PRODID:iCalendar-Ruby
BEGIN:VEVENT
CATEGORIES:Council event,Concert,Workshop
DESCRIPTION:Come and celebrate Earth Hour at the Southern Highlands Botanic
  Gardens. \n\nFood and drink available or bring along a picnic and enjoy li
 ve music\, sustainability stalls and speakers\, as well as the inaugral Scu
 lpture in the Gardens recycling art competition.
DTEND:20200328T110000Z
DTSTAMP:20200226T103540Z
DTSTART:20200328T060000Z
GEO:-34.498834;150.430121
LOCATION:Southern Highlands Botanic Gardens
SEQUENCE:0
SUMMARY:Earth Hour "Sculpture in the Gardens"
UID:tag:localist.com\,2008:EventInstance_32436411816458
URL:https://events.earthhour.org.au/event/earth_hour_sculpture_in_the_garde
 ns
END:VEVENT
END:VCALENDAR
